BEGIN:VCALENDAR
VERSION:2.0
PRODID:-//DJPJ - ECPv5.3.2.1//NONSGML v1.0//EN
CALSCALE:GREGORIAN
METHOD:PUBLISH
X-WR-CALNAME:DJPJ
X-ORIGINAL-URL:https://www.djpj.nl
X-WR-CALDESC:Events for DJPJ
BEGIN:VTIMEZONE
TZID:UTC
BEGIN:STANDARD
TZOFFSETFROM:+0000
TZOFFSETTO:+0000
TZNAME:UTC
DTSTART:20220101T000000
END:STANDARD
END:VTIMEZONE
BEGIN:VEVENT
DTSTART;VALUE=DATE:20220601
DTEND;VALUE=DATE:20220603
DTSTAMP:20260421T002408
CREATED:20220601T085036Z
LAST-MODIFIED:20220601T085036Z
UID:5401-1654063200-1654149599@www.djpj.nl
SUMMARY:AHC Feest Quintus
DESCRIPTION:Het is weer feest op Quintus! \nEn vanavond met DJPJ!! \nAlleen toegankelijk voor leden van Quintus en genodigden.
URL:https://www.djpj.nl/event/ahcfeestquintus-2022/
LOCATION:Quintus Leiden\, Boommarkt 5a\, Leiden\, 2311EA\, Netherlands
CATEGORIES:Student Party
ATTACH;FMTTYPE=image/jpeg:https://www.djpj.nl/wp-content/uploads/2022/06/DJPJ_AHCfeestQuintus_2022.jpg
END:VEVENT
END:VCALENDAR