BEGIN:VCALENDAR
VERSION:2.0
PRODID:-//DJPJ - ECPv5.3.2.1//NONSGML v1.0//EN
CALSCALE:GREGORIAN
METHOD:PUBLISH
X-WR-CALNAME:DJPJ
X-ORIGINAL-URL:https://www.djpj.nl
X-WR-CALDESC:Events for DJPJ
BEGIN:VTIMEZONE
TZID:UTC
BEGIN:STANDARD
TZOFFSETFROM:+0000
TZOFFSETTO:+0000
TZNAME:UTC
DTSTART:20260101T000000
END:STANDARD
END:VTIMEZONE
BEGIN:VEVENT
DTSTART;VALUE=DATE:20260218
DTEND;VALUE=DATE:20260220
DTSTAMP:20260420T213124
CREATED:20260217T160748Z
LAST-MODIFIED:20260217T160748Z
UID:7864-1771394400-1771480799@www.djpj.nl
SUMMARY:Algorhythm 2026
DESCRIPTION:On the 18th of February\, there will be an amazing party at the STECK\, and you most definitely do not want to miss it!\nCome dressed according to the theme: ”Under the SjaarSea!”.\nThe best outfit wins a special prize!! \nAlso with DJPJ!!! \nAlleen toegankelijk met Studentenkaart.
URL:https://www.djpj.nl/event/algorhythm-2026/
LOCATION:Steck\, Kromstraat 25\, Delft\, 2611EP\, Netherlands
CATEGORIES:Student Party
ATTACH;FMTTYPE=image/jpeg:https://www.djpj.nl/wp-content/uploads/2023/02/DJPJ_CH_AlgorhythmParty_2023.jpg
END:VEVENT
END:VCALENDAR