BEGIN:VCALENDAR
VERSION:2.0
PRODID:-//DJPJ - ECPv5.3.2.1//NONSGML v1.0//EN
CALSCALE:GREGORIAN
METHOD:PUBLISH
X-WR-CALNAME:DJPJ
X-ORIGINAL-URL:https://www.djpj.nl
X-WR-CALDESC:Events for DJPJ
BEGIN:VTIMEZONE
TZID:UTC
BEGIN:STANDARD
TZOFFSETFROM:+0000
TZOFFSETTO:+0000
TZNAME:UTC
DTSTART:20180101T000000
END:STANDARD
END:VTIMEZONE
BEGIN:VEVENT
DTSTART;VALUE=DATE:20180831
DTEND;VALUE=DATE:20180902
DTSTAMP:20260420T125145
CREATED:20180830T101301Z
LAST-MODIFIED:20180830T102441Z
UID:3493-1535695200-1535781599@www.djpj.nl
SUMMARY:Bedrijfsfeest: Katwijk aan Zee
DESCRIPTION:Bedrijfsfeest met DJPJ \nAlleen voor genodigden
URL:https://www.djpj.nl/event/bedrijfsfeest-katwijk-aan-zee/
LOCATION:Katwijk aan Zee\, Katwijk aan Zee\, Netherlands
CATEGORIES:Corporate Event
ATTACH;FMTTYPE=image/jpeg:https://www.djpj.nl/wp-content/uploads/2018/08/DJPJ_Bedrijfsfeest.jpg
END:VEVENT
END:VCALENDAR