BEGIN:VCALENDAR
VERSION:2.0
PRODID:-//DJPJ - ECPv5.3.2.1//NONSGML v1.0//EN
CALSCALE:GREGORIAN
METHOD:PUBLISH
X-WR-CALNAME:DJPJ
X-ORIGINAL-URL:https://www.djpj.nl
X-WR-CALDESC:Events for DJPJ
BEGIN:VTIMEZONE
TZID:UTC
BEGIN:STANDARD
TZOFFSETFROM:+0000
TZOFFSETTO:+0000
TZNAME:UTC
DTSTART:20250101T000000
END:STANDARD
END:VTIMEZONE
BEGIN:VEVENT
DTSTART;VALUE=DATE:20250620
DTEND;VALUE=DATE:20250622
DTSTAMP:20260420T211839
CREATED:20250603T183635Z
LAST-MODIFIED:20250603T183635Z
UID:7529-1750399200-1750485599@www.djpj.nl
SUMMARY:Besloten Feest: Den Haag
DESCRIPTION:Besloten feest met DJPJ \nAlleen voor genodigden
URL:https://www.djpj.nl/event/besloten-feest-den-haag-11/
LOCATION:Den Haag\, Den Haag\, Netherlands
CATEGORIES:Private Event
ATTACH;FMTTYPE=image/jpeg:https://www.djpj.nl/wp-content/uploads/2018/08/DJPJ_Bedrijfsfeest.jpg
END:VEVENT
END:VCALENDAR