BEGIN:VCALENDAR
VERSION:2.0
PRODID:-//DJPJ - ECPv5.3.2.1//NONSGML v1.0//EN
CALSCALE:GREGORIAN
METHOD:PUBLISH
X-WR-CALNAME:DJPJ
X-ORIGINAL-URL:https://www.djpj.nl
X-WR-CALDESC:Events for DJPJ
BEGIN:VTIMEZONE
TZID:UTC
BEGIN:STANDARD
TZOFFSETFROM:+0000
TZOFFSETTO:+0000
TZNAME:UTC
DTSTART:20230101T000000
END:STANDARD
END:VTIMEZONE
BEGIN:VEVENT
DTSTART;VALUE=DATE:20230721
DTEND;VALUE=DATE:20230723
DTSTAMP:20260420T194139
CREATED:20230627T134046Z
LAST-MODIFIED:20230627T134046Z
UID:6307-1689919200-1690005599@www.djpj.nl
SUMMARY:Besloten Feest: Haaren
DESCRIPTION:Besloten feest met DJPJ \nAlleen voor genodigden
URL:https://www.djpj.nl/event/besloten-feest-haaren/
LOCATION:Haaren\, Haaren\, Netherlands
CATEGORIES:Private Event
ATTACH;FMTTYPE=image/jpeg:https://www.djpj.nl/wp-content/uploads/2018/08/DJPJ_Bedrijfsfeest.jpg
END:VEVENT
END:VCALENDAR