BEGIN:VCALENDAR
VERSION:2.0
PRODID:-//DJPJ - ECPv5.3.2.1//NONSGML v1.0//EN
CALSCALE:GREGORIAN
METHOD:PUBLISH
X-WR-CALNAME:DJPJ
X-ORIGINAL-URL:https://www.djpj.nl
X-WR-CALDESC:Events for DJPJ
BEGIN:VTIMEZONE
TZID:UTC
BEGIN:STANDARD
TZOFFSETFROM:+0000
TZOFFSETTO:+0000
TZNAME:UTC
DTSTART:20230101T000000
END:STANDARD
END:VTIMEZONE
BEGIN:VEVENT
DTSTART;VALUE=DATE:20230617
DTEND;VALUE=DATE:20230619
DTSTAMP:20260420T212147
CREATED:20230404T122420Z
LAST-MODIFIED:20230404T122420Z
UID:6143-1686981600-1687067999@www.djpj.nl
SUMMARY:Besloten Feest: Koudekerke
DESCRIPTION:Besloten feest met DJPJ \nAlleen voor genodigden
URL:https://www.djpj.nl/event/besloten-feest-koudekerke/
LOCATION:Koudekerke\, Koudekerke\, Netherlands
CATEGORIES:Private Event
ATTACH;FMTTYPE=image/jpeg:https://www.djpj.nl/wp-content/uploads/2018/08/DJPJ_Bedrijfsfeest.jpg
END:VEVENT
END:VCALENDAR