BEGIN:VCALENDAR
VERSION:2.0
PRODID:-//DJPJ - ECPv5.3.2.1//NONSGML v1.0//EN
CALSCALE:GREGORIAN
METHOD:PUBLISH
X-WR-CALNAME:DJPJ
X-ORIGINAL-URL:https://www.djpj.nl
X-WR-CALDESC:Events for DJPJ
BEGIN:VTIMEZONE
TZID:UTC
BEGIN:STANDARD
TZOFFSETFROM:+0000
TZOFFSETTO:+0000
TZNAME:UTC
DTSTART:20240101T000000
END:STANDARD
END:VTIMEZONE
BEGIN:VEVENT
DTSTART;VALUE=DATE:20241108
DTEND;VALUE=DATE:20241110
DTSTAMP:20260420T224013
CREATED:20240919T105057Z
LAST-MODIFIED:20240919T105057Z
UID:7069-1731045600-1731131999@www.djpj.nl
SUMMARY:Besloten Feest: Monster
DESCRIPTION:Besloten feest met DJPJ \nAlleen voor genodigden
URL:https://www.djpj.nl/event/besloten-feest-monster/
LOCATION:Monster\, Monster
CATEGORIES:Private Event
ATTACH;FMTTYPE=image/jpeg:https://www.djpj.nl/wp-content/uploads/2018/08/DJPJ_Bedrijfsfeest.jpg
END:VEVENT
END:VCALENDAR