BEGIN:VCALENDAR
VERSION:2.0
PRODID:-//DJPJ - ECPv5.3.2.1//NONSGML v1.0//EN
CALSCALE:GREGORIAN
METHOD:PUBLISH
X-WR-CALNAME:DJPJ
X-ORIGINAL-URL:https://www.djpj.nl
X-WR-CALDESC:Events for DJPJ
BEGIN:VTIMEZONE
TZID:UTC
BEGIN:STANDARD
TZOFFSETFROM:+0000
TZOFFSETTO:+0000
TZNAME:UTC
DTSTART:20250101T000000
END:STANDARD
END:VTIMEZONE
BEGIN:VEVENT
DTSTART;VALUE=DATE:20250405
DTEND;VALUE=DATE:20250407
DTSTAMP:20260420T211655
CREATED:20250313T163642Z
LAST-MODIFIED:20250313T163642Z
UID:7373-1743832800-1743919199@www.djpj.nl
SUMMARY:Besloten Feest: Oegstgeest
DESCRIPTION:Besloten feest met DJPJ \nAlleen voor genodigden
URL:https://www.djpj.nl/event/besloten-feest-oegstgeest-2/
LOCATION:Oegstgeest\, Oegstgeest\, Netherlands
CATEGORIES:Private Event
ATTACH;FMTTYPE=image/jpeg:https://www.djpj.nl/wp-content/uploads/2018/08/DJPJ_Bedrijfsfeest.jpg
END:VEVENT
END:VCALENDAR