BEGIN:VCALENDAR
VERSION:2.0
PRODID:-//DJPJ - ECPv5.3.2.1//NONSGML v1.0//EN
CALSCALE:GREGORIAN
METHOD:PUBLISH
X-WR-CALNAME:DJPJ
X-ORIGINAL-URL:https://www.djpj.nl
X-WR-CALDESC:Events for DJPJ
BEGIN:VTIMEZONE
TZID:UTC
BEGIN:STANDARD
TZOFFSETFROM:+0000
TZOFFSETTO:+0000
TZNAME:UTC
DTSTART:20220101T000000
END:STANDARD
END:VTIMEZONE
BEGIN:VEVENT
DTSTART;TZID=UTC:20220908T210000
DTEND;TZID=UTC:20220909T013000
DTSTAMP:20260420T145801
CREATED:20220905T094101Z
LAST-MODIFIED:20220905T094101Z
UID:5699-1662670800-1662687000@www.djpj.nl
SUMMARY:Broeder Lazarus
DESCRIPTION:Dé nieuwe studentenavond van Delft!\nWant vroeg pieken is óók pieken!!\nEen hele avond los en tòch op tijd naar bed (of stiekem nog door in de Kromstraat) 😉\n\nEn vanavond met DJPJ!!
URL:https://www.djpj.nl/event/broederlazarus/
LOCATION:Broeder Lazarus\, Molslaan 104\, Delft\, 2611RP\, Netherlands
CATEGORIES:Party
ATTACH;FMTTYPE=image/jpeg:https://www.djpj.nl/wp-content/uploads/2022/06/DJPJ_BroederLazarus_2022.jpg
END:VEVENT
END:VCALENDAR