BEGIN:VCALENDAR
VERSION:2.0
PRODID:-//DJPJ - ECPv5.3.2.1//NONSGML v1.0//EN
CALSCALE:GREGORIAN
METHOD:PUBLISH
X-WR-CALNAME:DJPJ
X-ORIGINAL-URL:https://www.djpj.nl
X-WR-CALDESC:Events for DJPJ
BEGIN:VTIMEZONE
TZID:UTC
BEGIN:STANDARD
TZOFFSETFROM:+0000
TZOFFSETTO:+0000
TZNAME:UTC
DTSTART:20180101T000000
END:STANDARD
END:VTIMEZONE
BEGIN:VEVENT
DTSTART;VALUE=DATE:20180901
DTEND;VALUE=DATE:20180903
DTSTAMP:20260420T142828
CREATED:20180806T202527Z
LAST-MODIFIED:20180806T202527Z
UID:3481-1535781600-1535867999@www.djpj.nl
SUMMARY:Bruiloft: Rotterdam
DESCRIPTION:Bruiloft met DJPJ \nAlleen voor genodigden
URL:https://www.djpj.nl/event/bruiloft-rotterdam/
LOCATION:Rotterdam\, Rotterdam\, Netherlands
CATEGORIES:Wedding
ATTACH;FMTTYPE=image/jpeg:https://www.djpj.nl/wp-content/uploads/2018/08/DJPJ_Bruiloft.jpg
END:VEVENT
END:VCALENDAR