BEGIN:VCALENDAR
VERSION:2.0
PRODID:-//DJPJ - ECPv5.3.2.1//NONSGML v1.0//EN
CALSCALE:GREGORIAN
METHOD:PUBLISH
X-WR-CALNAME:DJPJ
X-ORIGINAL-URL:https://www.djpj.nl
X-WR-CALDESC:Events for DJPJ
BEGIN:VTIMEZONE
TZID:UTC
BEGIN:STANDARD
TZOFFSETFROM:+0000
TZOFFSETTO:+0000
TZNAME:UTC
DTSTART:20230101T000000
END:STANDARD
END:VTIMEZONE
BEGIN:VEVENT
DTSTART;TZID=UTC:20231011T220000
DTEND;TZID=UTC:20231012T030000
DTSTAMP:20260420T150033
CREATED:20231003T075939Z
LAST-MODIFIED:20231003T075939Z
UID:6503-1697061600-1697079600@www.djpj.nl
SUMMARY:CH Feest 2023
DESCRIPTION:The first CH Party of the year\, with DJPJ!\nWe go back to the summer of 1967: the Summer of Love. \nAlleen toegankelijk met Studentenkaart.
URL:https://www.djpj.nl/event/ch-feest-2023/
LOCATION:Broeder Lazarus\, Molslaan 104\, Delft\, 2611RP\, Netherlands
CATEGORIES:Student Party
ATTACH;FMTTYPE=image/jpeg:https://www.djpj.nl/wp-content/uploads/2023/10/DJPJ_CH_Feest_2023.jpg
END:VEVENT
END:VCALENDAR