BEGIN:VCALENDAR
VERSION:2.0
PRODID:-//DJPJ - ECPv5.3.2.1//NONSGML v1.0//EN
CALSCALE:GREGORIAN
METHOD:PUBLISH
X-WR-CALNAME:DJPJ
X-ORIGINAL-URL:https://www.djpj.nl
X-WR-CALDESC:Events for DJPJ
BEGIN:VTIMEZONE
TZID:UTC
BEGIN:STANDARD
TZOFFSETFROM:+0000
TZOFFSETTO:+0000
TZNAME:UTC
DTSTART:20240101T000000
END:STANDARD
END:VTIMEZONE
BEGIN:VEVENT
DTSTART;TZID=UTC:20241010T220000
DTEND;TZID=UTC:20241011T040000
DTSTAMP:20260420T100823
CREATED:20240919T105733Z
LAST-MODIFIED:20240919T111541Z
UID:7075-1728597600-1728619200@www.djpj.nl
SUMMARY:Civilization 2024
DESCRIPTION:Wat een feest dat jullie dit lezen\, willen jullie nog meer feest? Dat kan! 10 oktober is het namelijk al zo ver: Civilization!!! Dit jaar zal dit epische feest plaats vinden in Club Kiki in Leiden. Het belooft een fantastische avond te worden\, dus wees erbij! \nEn vanavond met DJPJ!! \nAlleen toegankelijk met Studentenkaart en een ID.
URL:https://www.djpj.nl/event/civilization-2024/
LOCATION:Kiki Club\, Lammermarkt 100\, Leiden\, 2312CW
CATEGORIES:Student Party
ATTACH;FMTTYPE=image/jpeg:https://www.djpj.nl/wp-content/uploads/2024/09/DJPJ_Civilization_2024.jpg
END:VEVENT
END:VCALENDAR