BEGIN:VCALENDAR
VERSION:2.0
PRODID:-//DJPJ - ECPv5.3.2.1//NONSGML v1.0//EN
CALSCALE:GREGORIAN
METHOD:PUBLISH
X-WR-CALNAME:DJPJ
X-ORIGINAL-URL:https://www.djpj.nl
X-WR-CALDESC:Events for DJPJ
BEGIN:VTIMEZONE
TZID:UTC
BEGIN:STANDARD
TZOFFSETFROM:+0000
TZOFFSETTO:+0000
TZNAME:UTC
DTSTART:20210101T000000
END:STANDARD
END:VTIMEZONE
BEGIN:VEVENT
DTSTART;VALUE=DATE:20211007
DTEND;VALUE=DATE:20211009
DTSTAMP:20260420T212754
CREATED:20211010T164038Z
LAST-MODIFIED:20211010T164038Z
UID:5055-1633586400-1633672799@www.djpj.nl
SUMMARY:Civilization 2021
DESCRIPTION:Civilization is terug!!! \nOnder andere met DJPJ!!! \nAlleen toegankelijk met studentenkaart.
URL:https://www.djpj.nl/event/civilization2021/
LOCATION:Flora Theater\, Verwersdijk 1\, Delft\, 2611ND\, Netherlands
CATEGORIES:Student Party
ATTACH;FMTTYPE=image/jpeg:https://www.djpj.nl/wp-content/uploads/2021/10/DJPJ_Civilization_2021.jpg
END:VEVENT
END:VCALENDAR