BEGIN:VCALENDAR
VERSION:2.0
PRODID:-//DJPJ - ECPv5.3.2.1//NONSGML v1.0//EN
CALSCALE:GREGORIAN
METHOD:PUBLISH
X-WR-CALNAME:DJPJ
X-ORIGINAL-URL:https://www.djpj.nl
X-WR-CALDESC:Events for DJPJ
BEGIN:VTIMEZONE
TZID:UTC
BEGIN:STANDARD
TZOFFSETFROM:+0000
TZOFFSETTO:+0000
TZNAME:UTC
DTSTART:20220101T000000
END:STANDARD
END:VTIMEZONE
BEGIN:VEVENT
DTSTART;VALUE=DATE:20220819
DTEND;VALUE=DATE:20220821
DTSTAMP:20260420T174357
CREATED:20220801T175810Z
LAST-MODIFIED:20220801T175810Z
UID:5619-1660888800-1660975199@www.djpj.nl
SUMMARY:COW 2022
DESCRIPTION:De nieuwe Civiele Techniek studenten maken kennis met elkaar!\nEn vanavond met DJPJ!!\nAlleen toegankelijk voor deelnemers aan het COW
URL:https://www.djpj.nl/event/cow-2022/
LOCATION:Someren\, Someren\, Netherlands
CATEGORIES:Student Party
ATTACH;FMTTYPE=image/jpeg:https://www.djpj.nl/wp-content/uploads/2022/08/DJPJ_COW_2022.jpg
END:VEVENT
END:VCALENDAR