BEGIN:VCALENDAR
VERSION:2.0
PRODID:-//DJPJ - ECPv5.3.2.1//NONSGML v1.0//EN
CALSCALE:GREGORIAN
METHOD:PUBLISH
X-WR-CALNAME:DJPJ
X-ORIGINAL-URL:https://www.djpj.nl
X-WR-CALDESC:Events for DJPJ
BEGIN:VTIMEZONE
TZID:UTC
BEGIN:STANDARD
TZOFFSETFROM:+0000
TZOFFSETTO:+0000
TZNAME:UTC
DTSTART:20240101T000000
END:STANDARD
END:VTIMEZONE
BEGIN:VEVENT
DTSTART;VALUE=DATE:20240817
DTEND;VALUE=DATE:20240819
DTSTAMP:20260420T204710
CREATED:20240814T163434Z
LAST-MODIFIED:20240814T163434Z
UID:6989-1723874400-1723960799@www.djpj.nl
SUMMARY:COW 2024
DESCRIPTION:De nieuwe Civiele Techniek studenten maken kennis met elkaar!\nEn vanavond met DJPJ!!\nAlleen toegankelijk voor deelnemers aan het COW
URL:https://www.djpj.nl/event/cow-2024/
LOCATION:Someren\, Someren\, Netherlands
CATEGORIES:Student Party
ATTACH;FMTTYPE=image/jpeg:https://www.djpj.nl/wp-content/uploads/2024/08/DJPJ_COW_2024.jpg
END:VEVENT
END:VCALENDAR