BEGIN:VCALENDAR
VERSION:2.0
PRODID:-//DJPJ - ECPv5.3.2.1//NONSGML v1.0//EN
CALSCALE:GREGORIAN
METHOD:PUBLISH
X-WR-CALNAME:DJPJ
X-ORIGINAL-URL:https://www.djpj.nl
X-WR-CALDESC:Events for DJPJ
BEGIN:VTIMEZONE
TZID:UTC
BEGIN:STANDARD
TZOFFSETFROM:+0000
TZOFFSETTO:+0000
TZNAME:UTC
DTSTART:20250101T000000
END:STANDARD
END:VTIMEZONE
BEGIN:VEVENT
DTSTART;VALUE=DATE:20250815
DTEND;VALUE=DATE:20250817
DTSTAMP:20260420T210211
CREATED:20250910T125842Z
LAST-MODIFIED:20250910T125842Z
UID:7673-1755237600-1755323999@www.djpj.nl
SUMMARY:COW 2025
DESCRIPTION:De nieuwe Civiele Techniek studenten maken kennis met elkaar!\nEn vanavond met DJPJ!!\nAlleen toegankelijk voor deelnemers aan het COW
URL:https://www.djpj.nl/event/cow-2025/
LOCATION:Someren\, Someren\, Netherlands
CATEGORIES:Student Party
ATTACH;FMTTYPE=image/jpeg:https://www.djpj.nl/wp-content/uploads/2025/09/DJPJ_COW_2025.jpg
END:VEVENT
END:VCALENDAR