BEGIN:VCALENDAR
VERSION:2.0
PRODID:-//DJPJ - ECPv5.3.2.1//NONSGML v1.0//EN
CALSCALE:GREGORIAN
METHOD:PUBLISH
X-WR-CALNAME:DJPJ
X-ORIGINAL-URL:https://www.djpj.nl
X-WR-CALDESC:Events for DJPJ
BEGIN:VTIMEZONE
TZID:UTC
BEGIN:STANDARD
TZOFFSETFROM:+0000
TZOFFSETTO:+0000
TZNAME:UTC
DTSTART:20190101T000000
END:STANDARD
END:VTIMEZONE
BEGIN:VEVENT
DTSTART;TZID=UTC:20191231T235500
DTEND;TZID=UTC:20200101T050000
DTSTAMP:20260421T064915
CREATED:20191203T182505Z
LAST-MODIFIED:20191203T182844Z
UID:4655-1577836500-1577854800@www.djpj.nl
SUMMARY:De Nachtploeg: Oud&Nieuw
DESCRIPTION:Voor de 25ste keer organiseert de Kurk een feest tijdens de jaarwisseling! En er waren zelden nog kaarten aan de deur verkrijgbaar. Dat zegt genoeg over het feestgehalte dachten wij zo. \nSinds drie jaar bestormen de DJ’s van de Nachtwacht elk weekend het podium van de Kurk om het leukste kroegfeestje van Delft neer te zetten en dát doen ze met Oud- & Nieuw in de MMXX versie! \nWe luiden een nieuw decennium in met onze hedendaagse draai-brigade DJ Coers en DJPJ! Achter de toog de vertrouwde Nachtwacht kasteleins die jullie drankjes en snacks verzorgen!
URL:https://www.djpj.nl/event/de-nachtploeg-oudnieuw/
LOCATION:De Kurk\, Kromstraat 20\, Delft\, 2611ER\, Netherlands
CATEGORIES:Party
ATTACH;FMTTYPE=image/jpeg:https://www.djpj.nl/wp-content/uploads/2019/12/DJPJ_ON_Kurk_2019.jpg
END:VEVENT
END:VCALENDAR