BEGIN:VCALENDAR
VERSION:2.0
PRODID:-//DJPJ - ECPv5.3.2.1//NONSGML v1.0//EN
CALSCALE:GREGORIAN
METHOD:PUBLISH
X-WR-CALNAME:DJPJ
X-ORIGINAL-URL:https://www.djpj.nl
X-WR-CALDESC:Events for DJPJ
BEGIN:VTIMEZONE
TZID:UTC
BEGIN:STANDARD
TZOFFSETFROM:+0000
TZOFFSETTO:+0000
TZNAME:UTC
DTSTART:20180101T000000
END:STANDARD
END:VTIMEZONE
BEGIN:VEVENT
DTSTART;TZID=UTC:20181115T210000
DTEND;TZID=UTC:20181116T050000
DTSTAMP:20260420T213810
CREATED:20181101T122540Z
LAST-MODIFIED:20181101T122540Z
UID:3665-1542315600-1542344400@www.djpj.nl
SUMMARY:Dies DSB
DESCRIPTION:De 121e Dies van de Delftsche Studenten Bond moet natuurlijk gevierd worden!\nEn vanavond met DJPJ!!\nAlleen toegankelijk met Studentenkaart.
URL:https://www.djpj.nl/event/dies-dsb/
LOCATION:DSB\, Oude Delft 123\, Delft\, 2611BE\, Netherlands
CATEGORIES:Student Party
ATTACH;FMTTYPE=image/jpeg:https://www.djpj.nl/wp-content/uploads/2018/11/DJPJ_DiesDSB_2018.jpg
END:VEVENT
END:VCALENDAR