BEGIN:VCALENDAR
VERSION:2.0
PRODID:-//DJPJ - ECPv5.3.2.1//NONSGML v1.0//EN
CALSCALE:GREGORIAN
METHOD:PUBLISH
X-WR-CALNAME:DJPJ
X-ORIGINAL-URL:https://www.djpj.nl
X-WR-CALDESC:Events for DJPJ
BEGIN:VTIMEZONE
TZID:UTC
BEGIN:STANDARD
TZOFFSETFROM:+0000
TZOFFSETTO:+0000
TZNAME:UTC
DTSTART:20180101T000000
END:STANDARD
END:VTIMEZONE
BEGIN:VEVENT
DTSTART;TZID=UTC:20181114T220000
DTEND;TZID=UTC:20181115T040000
DTSTAMP:20260420T231310
CREATED:20181101T121111Z
LAST-MODIFIED:20181101T121111Z
UID:3659-1542232800-1542254400@www.djpj.nl
SUMMARY:Dies S.G. "William Froude"
DESCRIPTION:Vamos a la playa\, vanavond helemaal naar de haaya! \nOm de lustrumweek in te luiden beginnen we met een feestje in de Kurk.\nOnder andere de Froudeband en DJPJ zullen je deze avond voorzien van kruidige deuntjes. \nWie shark jij vanavond? \nAlleen toegankelijk met Studentenkaart.
URL:https://www.djpj.nl/event/dies-froude/
LOCATION:De Kurk\, Kromstraat 20\, Delft\, 2611ER\, Netherlands
CATEGORIES:Student Party
ATTACH;FMTTYPE=image/jpeg:https://www.djpj.nl/wp-content/uploads/2018/11/DJPJ_DiesFroude2018.jpg
END:VEVENT
END:VCALENDAR