BEGIN:VCALENDAR
VERSION:2.0
PRODID:-//DJPJ - ECPv5.3.2.1//NONSGML v1.0//EN
CALSCALE:GREGORIAN
METHOD:PUBLISH
X-WR-CALNAME:DJPJ
X-ORIGINAL-URL:https://www.djpj.nl
X-WR-CALDESC:Events for DJPJ
BEGIN:VTIMEZONE
TZID:UTC
BEGIN:STANDARD
TZOFFSETFROM:+0000
TZOFFSETTO:+0000
TZNAME:UTC
DTSTART:20190101T000000
END:STANDARD
END:VTIMEZONE
BEGIN:VEVENT
DTSTART;TZID=UTC:20190214T233000
DTEND;TZID=UTC:20190215T030000
DTSTAMP:20260421T110825
CREATED:20190202T144203Z
LAST-MODIFIED:20190202T144203Z
UID:3899-1550187000-1550199600@www.djpj.nl
SUMMARY:Kurk DonderKlup
DESCRIPTION:Ik mag gaan knallen in De Donderklup!!\nDé avond waarop DJ’s de vrijheid krijgen om muziek te mogen draaien waarvan zij zelf vinden dat het niet vaak genoeg meer te horen is.\nEn ik ga mijn keuze maken uit de geweldige muziek uit de 90’s en 00’s!!\nVerwacht niet de mainstream nummertjes\, zoals Vengaboys\, Spice Girls\, Backstreet Boys\, David Guetta\, Pitbull en Gigi d’Agostino\, maar lekkere (skater)Rock\, OldSchool Hiphop/RnB\, “alternatieve” Dance en misschien dat ene Pop plaatje dat je al heeeeeel lang niet meer gehoord hebt.\nLaat je verrassen door de deuntjes uit de diepe krochten van mijn muziekcollectie\, waarmee ik de donder terug breng op de dondernacht!!
URL:https://www.djpj.nl/event/donderklup-2-2-2/
LOCATION:De Kurk\, Kromstraat 20\, Delft\, 2611ER\, Netherlands
CATEGORIES:Party
ATTACH;FMTTYPE=image/jpeg:https://www.djpj.nl/wp-content/uploads/2018/11/DJPJ_Donderklup.jpg
END:VEVENT
END:VCALENDAR