BEGIN:VCALENDAR
VERSION:2.0
PRODID:-//DJPJ - ECPv5.3.2.1//NONSGML v1.0//EN
CALSCALE:GREGORIAN
METHOD:PUBLISH
X-WR-CALNAME:DJPJ
X-ORIGINAL-URL:https://www.djpj.nl
X-WR-CALDESC:Events for DJPJ
BEGIN:VTIMEZONE
TZID:UTC
BEGIN:STANDARD
TZOFFSETFROM:+0000
TZOFFSETTO:+0000
TZNAME:UTC
DTSTART:20220101T000000
END:STANDARD
END:VTIMEZONE
BEGIN:VEVENT
DTSTART;VALUE=DATE:20220818
DTEND;VALUE=DATE:20220820
DTSTAMP:20260420T161934
CREATED:20220801T174919Z
LAST-MODIFIED:20220801T174919Z
UID:5611-1660802400-1660888799@www.djpj.nl
SUMMARY:EJW L&R 2022
DESCRIPTION:De nieuwe L&R-studenten maken kennis met elkaar!\nEn vanavond met DJPJ!!\nAlleen toegankelijk voor deelnemers aan het EJW van L&R
URL:https://www.djpj.nl/event/ejw-lr-2022/
LOCATION:De Mortel\, De Mortel
CATEGORIES:Student Party
ATTACH;FMTTYPE=image/jpeg:https://www.djpj.nl/wp-content/uploads/2022/08/DJPJ_EJW_LR_2022.jpg
END:VEVENT
END:VCALENDAR