BEGIN:VCALENDAR
VERSION:2.0
PRODID:-//DJPJ - ECPv5.3.2.1//NONSGML v1.0//EN
CALSCALE:GREGORIAN
METHOD:PUBLISH
X-WR-CALNAME:DJPJ
X-ORIGINAL-URL:https://www.djpj.nl
X-WR-CALDESC:Events for DJPJ
BEGIN:VTIMEZONE
TZID:UTC
BEGIN:STANDARD
TZOFFSETFROM:+0000
TZOFFSETTO:+0000
TZNAME:UTC
DTSTART:20240101T000000
END:STANDARD
END:VTIMEZONE
BEGIN:VEVENT
DTSTART;VALUE=DATE:20240816
DTEND;VALUE=DATE:20240818
DTSTAMP:20260420T190345
CREATED:20240814T163614Z
LAST-MODIFIED:20240814T163614Z
UID:6995-1723788000-1723874399@www.djpj.nl
SUMMARY:EJW L&R 2024
DESCRIPTION:De nieuwe L&R-studenten maken kennis met elkaar!\nEn vanavond met DJPJ!!\nAlleen toegankelijk voor deelnemers aan het EJW van L&R
URL:https://www.djpj.nl/event/ejw-lr-2024/
LOCATION:De Mortel\, De Mortel
CATEGORIES:Student Party
ATTACH;FMTTYPE=image/jpeg:https://www.djpj.nl/wp-content/uploads/2022/03/DJPJ_VSV_ZodiAkCieFeest_2022.jpg
END:VEVENT
END:VCALENDAR