BEGIN:VCALENDAR
VERSION:2.0
PRODID:-//DJPJ - ECPv5.3.2.1//NONSGML v1.0//EN
CALSCALE:GREGORIAN
METHOD:PUBLISH
X-WR-CALNAME:DJPJ
X-ORIGINAL-URL:https://www.djpj.nl
X-WR-CALDESC:Events for DJPJ
BEGIN:VTIMEZONE
TZID:UTC
BEGIN:STANDARD
TZOFFSETFROM:+0000
TZOFFSETTO:+0000
TZNAME:UTC
DTSTART:20220101T000000
END:STANDARD
END:VTIMEZONE
BEGIN:VEVENT
DTSTART;VALUE=DATE:20220817
DTEND;VALUE=DATE:20220819
DTSTAMP:20260420T150103
CREATED:20220801T173658Z
LAST-MODIFIED:20220801T173658Z
UID:5605-1660716000-1660802399@www.djpj.nl
SUMMARY:ElCid Augustinus 2022
DESCRIPTION:Augustinus is een van de grootste studentenverenigingen van Leiden.\nKom tijdens de EL CID langs om de sfeer\, en een klein biertje\, te proeven!\nEn vanavond met DJPJ!!\nAlleen toegankelijk voor leden van Augustinus en deelnemers aan de ElCid
URL:https://www.djpj.nl/event/elcid-2022-augustinus/
LOCATION:Augustinus\, Rapenburg 24\, Leiden\, 2311EW\, Netherlands
CATEGORIES:Student Party
ATTACH;FMTTYPE=image/jpeg:https://www.djpj.nl/wp-content/uploads/2022/08/DJPJ_ElCid2022_Augustinus.jpg
END:VEVENT
END:VCALENDAR