BEGIN:VCALENDAR
VERSION:2.0
PRODID:-//DJPJ - ECPv5.3.2.1//NONSGML v1.0//EN
CALSCALE:GREGORIAN
METHOD:PUBLISH
X-WR-CALNAME:DJPJ
X-ORIGINAL-URL:https://www.djpj.nl
X-WR-CALDESC:Events for DJPJ
BEGIN:VTIMEZONE
TZID:UTC
BEGIN:STANDARD
TZOFFSETFROM:+0000
TZOFFSETTO:+0000
TZNAME:UTC
DTSTART:20250101T000000
END:STANDARD
END:VTIMEZONE
BEGIN:VEVENT
DTSTART;VALUE=DATE:20250910
DTEND;VALUE=DATE:20250912
DTSTAMP:20260420T180229
CREATED:20250603T191017Z
LAST-MODIFIED:20250910T130248Z
UID:7679-1757484000-1757570399@www.djpj.nl
SUMMARY:ElCid AfterParty 2025
DESCRIPTION:BYE BYE EL CID 2025🌟🔎\n10 september is het tijd om de ElCid af te sluiten! ☀ Of je nou eerstejaars\, mentor of crew was\, iedereen is welkom 🪩 Vier met ons het einde van een fantastische EL CID 🔎🎇 \nMet onder andere DJPJ!! \nAlleen toegankelijk met collegekaart.
URL:https://www.djpj.nl/event/elcid-afterparty-2025/
LOCATION:De Nobel\, Marktsteeg 8\, Leiden\, 2312CS\, Netherlands
CATEGORIES:Student Party
ATTACH;FMTTYPE=image/jpeg:https://www.djpj.nl/wp-content/uploads/2025/06/DJPJ_ElCidAfterParty_2025.jpg
END:VEVENT
END:VCALENDAR