BEGIN:VCALENDAR
VERSION:2.0
PRODID:-//DJPJ - ECPv5.3.2.1//NONSGML v1.0//EN
CALSCALE:GREGORIAN
METHOD:PUBLISH
X-WR-CALNAME:DJPJ
X-ORIGINAL-URL:https://www.djpj.nl
X-WR-CALDESC:Events for DJPJ
BEGIN:VTIMEZONE
TZID:UTC
BEGIN:STANDARD
TZOFFSETFROM:+0000
TZOFFSETTO:+0000
TZNAME:UTC
DTSTART:20220101T000000
END:STANDARD
END:VTIMEZONE
BEGIN:VEVENT
DTSTART;VALUE=DATE:20220815
DTEND;VALUE=DATE:20220817
DTSTAMP:20260420T134445
CREATED:20220801T172629Z
LAST-MODIFIED:20220801T172629Z
UID:5591-1660543200-1660629599@www.djpj.nl
SUMMARY:ElCid Asopos 2022
DESCRIPTION:Het is feest bij Asopos. \nEn vanavond met DJPJ!!! \nAlleen toegankelijk voor leden van Asopos en genodigden.
URL:https://www.djpj.nl/event/elcid-asopos-2022-2/
LOCATION:Asopos de Vliet\, Zijlstroom 137\, Leiderdorp\, 2353NN\, Netherlands
CATEGORIES:Student Party
ATTACH;FMTTYPE=image/jpeg:https://www.djpj.nl/wp-content/uploads/2022/08/DJPJ_ElCid_Asopos_2022.jpg
END:VEVENT
END:VCALENDAR