BEGIN:VCALENDAR
VERSION:2.0
PRODID:-//DJPJ - ECPv5.3.2.1//NONSGML v1.0//EN
CALSCALE:GREGORIAN
METHOD:PUBLISH
X-WR-CALNAME:DJPJ
X-ORIGINAL-URL:https://www.djpj.nl
X-WR-CALDESC:Events for DJPJ
BEGIN:VTIMEZONE
TZID:UTC
BEGIN:STANDARD
TZOFFSETFROM:+0000
TZOFFSETTO:+0000
TZNAME:UTC
DTSTART:20250101T000000
END:STANDARD
END:VTIMEZONE
BEGIN:VEVENT
DTSTART;VALUE=DATE:20250618
DTEND;VALUE=DATE:20250620
DTSTAMP:20260420T180525
CREATED:20250603T191017Z
LAST-MODIFIED:20250603T191017Z
UID:7555-1750226400-1750312799@www.djpj.nl
SUMMARY:ElCid PreParty 2025
DESCRIPTION:GET READY FOR EL CID 2025🌟🔎\n18 juni is het tijd om de zomer af te trappen! ☀ Of je nou mentor of crew wil zijn\, iedereen is welkom 🪩 Vier met ons het begin van een fantastische EL CID 🔎🎇 \nMet onder andere DJPJ!! \nAlleen toegankelijk met collegekaart.
URL:https://www.djpj.nl/event/elcid-preparty-2025/
LOCATION:Wibar\, Willem Barentszstraat 39\, Leiden\, Netherlands
CATEGORIES:Student Party
ATTACH;FMTTYPE=image/jpeg:https://www.djpj.nl/wp-content/uploads/2025/06/DJPJ_PreElCidFeest_2025.jpg
END:VEVENT
END:VCALENDAR