BEGIN:VCALENDAR
VERSION:2.0
PRODID:-//DJPJ - ECPv5.3.2.1//NONSGML v1.0//EN
CALSCALE:GREGORIAN
METHOD:PUBLISH
X-WR-CALNAME:DJPJ
X-ORIGINAL-URL:https://www.djpj.nl
X-WR-CALDESC:Events for DJPJ
BEGIN:VTIMEZONE
TZID:UTC
BEGIN:STANDARD
TZOFFSETFROM:+0000
TZOFFSETTO:+0000
TZNAME:UTC
DTSTART:20190101T000000
END:STANDARD
END:VTIMEZONE
BEGIN:VEVENT
DTSTART;VALUE=DATE:20190815
DTEND;VALUE=DATE:20190817
DTSTAMP:20260420T180736
CREATED:20190801T131525Z
LAST-MODIFIED:20190801T131525Z
UID:4297-1565848800-1565935199@www.djpj.nl
SUMMARY:ElCid 2019: Quintus
DESCRIPTION:Quintus is een van de grootste studentenverenigingen van Leiden.\nKom tijdens de EL CID langs om de sfeer\, en een klein biertje\, te proeven!\nEn vanavond met DJPJ!!\nAlleen toegankelijk voor leden van Quintus en deelnemers aan de ElCid
URL:https://www.djpj.nl/event/elcid-quintus/
LOCATION:Quintus Leiden\, Boommarkt 5a\, Leiden\, 2311EA\, Netherlands
CATEGORIES:Student Party
ATTACH;FMTTYPE=image/jpeg:https://www.djpj.nl/wp-content/uploads/2019/08/DJPJ_ElCid2019_Quintus.jpg
END:VEVENT
END:VCALENDAR