BEGIN:VCALENDAR
VERSION:2.0
PRODID:-//DJPJ - ECPv5.3.2.1//NONSGML v1.0//EN
CALSCALE:GREGORIAN
METHOD:PUBLISH
X-WR-CALNAME:DJPJ
X-ORIGINAL-URL:https://www.djpj.nl
X-WR-CALDESC:Events for DJPJ
BEGIN:VTIMEZONE
TZID:UTC
BEGIN:STANDARD
TZOFFSETFROM:+0000
TZOFFSETTO:+0000
TZNAME:UTC
DTSTART:20190101T000000
END:STANDARD
END:VTIMEZONE
BEGIN:VEVENT
DTSTART;TZID=UTC:20190503T230000
DTEND;TZID=UTC:20190504T040000
DTSTAMP:20260420T232813
CREATED:20190503T141744Z
LAST-MODIFIED:20190503T141744Z
UID:4079-1556924400-1556942400@www.djpj.nl
SUMMARY:La Famiglia Lustrum 2019
DESCRIPTION:Het gezelschap La Famigla is oorspronkelijk ontstaan uit het ouder-kind verband en richt zich op het bewaken en verrijken van de studentikoze cultuur binnen NSL. Waar het ooit begon met zes leden\, is deze hechte vriendengroep inmiddels gegroeid tot een club van 28 die is opgebouwd uit zes lichtingen. Kenmerkend voor dit gezelschap is de voorliefde van de leden voor de sociëteit.  De grijze jasjes zijn de afgelopen jaren bepalend geweest voor de borrelcultuur van NSL. Naast de hoge mate van aanwezigheid op borrels en het introduceren van verschillende gebruiken\, blijkt deze liefde voor de sociëteit ook uit de centrale plaats die ‘LF’ inneemt in het interieur van het Pand. Door de jaarlijkse toestroom van nieuwe leden zal de studentikoze cultuur binnen NSL gewaarborgd blijven. \nEn dit jaar vieren zij hun Lustrum met vanavond o.a. DJPJ!!! \nAlleen toegankelijk voor leden van La Famiglia en genodigden.
URL:https://www.djpj.nl/event/famiglialustrum2019/
LOCATION:Club Jaune\, Hogewoerd 18\, Leiden\, 2311HM\, Netherlands
CATEGORIES:Student Party
ATTACH;FMTTYPE=image/jpeg:https://www.djpj.nl/wp-content/uploads/2019/05/DJPJ_Famiglia_Lustrum_2019.jpg
END:VEVENT
END:VCALENDAR