BEGIN:VCALENDAR
VERSION:2.0
PRODID:-//DJPJ - ECPv5.3.2.1//NONSGML v1.0//EN
CALSCALE:GREGORIAN
METHOD:PUBLISH
X-WR-CALNAME:DJPJ
X-ORIGINAL-URL:https://www.djpj.nl
X-WR-CALDESC:Events for DJPJ
BEGIN:VTIMEZONE
TZID:UTC
BEGIN:STANDARD
TZOFFSETFROM:+0000
TZOFFSETTO:+0000
TZNAME:UTC
DTSTART:20230101T000000
END:STANDARD
END:VTIMEZONE
BEGIN:VEVENT
DTSTART;VALUE=DATE:20230607
DTEND;VALUE=DATE:20230609
DTSTAMP:20260421T035239
CREATED:20230605T093930Z
LAST-MODIFIED:20230605T093930Z
UID:6281-1686117600-1686203999@www.djpj.nl
SUMMARY:Froudelicious 2023
DESCRIPTION:Het grootste feest van Froude: Froudelicious. \nDit jaar wordt het georganiseerd bij Colorado Charlie\, vetter en groter dan ooit te voren! \nEn vanavond ook met DJPJ!! \nAlleen toegankelijk met studentenkaart.
URL:https://www.djpj.nl/event/froudelicious-2023/
LOCATION:Colorado Charlie\, Zwarte Pad 64\, Den Haag\, 2586JM
CATEGORIES:Student Party
ATTACH;FMTTYPE=image/jpeg:https://www.djpj.nl/wp-content/uploads/2023/06/DJPJ_Froudelicious_2023.jpg
END:VEVENT
END:VCALENDAR