BEGIN:VCALENDAR
VERSION:2.0
PRODID:-//DJPJ - ECPv5.3.2.1//NONSGML v1.0//EN
CALSCALE:GREGORIAN
METHOD:PUBLISH
X-WR-CALNAME:DJPJ
X-ORIGINAL-URL:https://www.djpj.nl
X-WR-CALDESC:Events for DJPJ
BEGIN:VTIMEZONE
TZID:UTC
BEGIN:STANDARD
TZOFFSETFROM:+0000
TZOFFSETTO:+0000
TZNAME:UTC
DTSTART:20240101T000000
END:STANDARD
END:VTIMEZONE
BEGIN:VEVENT
DTSTART;VALUE=DATE:20240605
DTEND;VALUE=DATE:20240607
DTSTAMP:20260421T035121
CREATED:20240613T200617Z
LAST-MODIFIED:20240613T201014Z
UID:6891-1717567200-1717653599@www.djpj.nl
SUMMARY:Froudelicious 2024
DESCRIPTION:Het grootste feest van Froude: Froudelicious. \nDit jaar wordt het georganiseerd bij ‘t Fust in Rotterdam! \nEn vanavond ook met DJPJ!! \nAlleen toegankelijk met studentenkaart.
URL:https://www.djpj.nl/event/froudelicious-2024/
LOCATION:‘t Fust\, Stadhuisplein 21\, Rotterdam\, 3012AR\, Netherlands
CATEGORIES:Student Party
ATTACH;FMTTYPE=image/jpeg:https://www.djpj.nl/wp-content/uploads/2024/06/DJPJ_Froudelicious_2024.jpg
END:VEVENT
END:VCALENDAR