BEGIN:VCALENDAR
VERSION:2.0
PRODID:-//DJPJ - ECPv5.3.2.1//NONSGML v1.0//EN
CALSCALE:GREGORIAN
METHOD:PUBLISH
X-WR-CALNAME:DJPJ
X-ORIGINAL-URL:https://www.djpj.nl
X-WR-CALDESC:Events for DJPJ
BEGIN:VTIMEZONE
TZID:UTC
BEGIN:STANDARD
TZOFFSETFROM:+0000
TZOFFSETTO:+0000
TZNAME:UTC
DTSTART:20230101T000000
END:STANDARD
END:VTIMEZONE
BEGIN:VEVENT
DTSTART;VALUE=DATE:20230303
DTEND;VALUE=DATE:20230305
DTSTAMP:20260421T172554
CREATED:20230317T104935Z
LAST-MODIFIED:20230317T104935Z
UID:6051-1677823200-1677909599@www.djpj.nl
SUMMARY:Gala Lustrum Leeghwater 2023
DESCRIPTION:Het Gezelschap Leeghwater viert haar lustrum met een Gala! \nEn vanavond met DJPJ!! \nAlleen toegankelijk voor leden van Het Gezelschap Leeghwater en genodigden.
URL:https://www.djpj.nl/event/gala-lustrum-leeghwater-2023/
LOCATION:Fort Sint Gertrudis\, Haven 54\, Geertruidenberg\, 4931AH
CATEGORIES:Student Party
ATTACH;FMTTYPE=image/jpeg:https://www.djpj.nl/wp-content/uploads/2022/05/DJPJ_Slagtandfeest_2022.jpg
END:VEVENT
END:VCALENDAR