BEGIN:VCALENDAR
VERSION:2.0
PRODID:-//DJPJ - ECPv5.3.2.1//NONSGML v1.0//EN
CALSCALE:GREGORIAN
METHOD:PUBLISH
X-WR-CALNAME:DJPJ
X-ORIGINAL-URL:https://www.djpj.nl
X-WR-CALDESC:Events for DJPJ
BEGIN:VTIMEZONE
TZID:UTC
BEGIN:STANDARD
TZOFFSETFROM:+0000
TZOFFSETTO:+0000
TZNAME:UTC
DTSTART:20190101T000000
END:STANDARD
END:VTIMEZONE
BEGIN:VEVENT
DTSTART;TZID=UTC:20190530T160000
DTEND;TZID=UTC:20190530T180000
DTSTAMP:20260420T185859
CREATED:20190503T144749Z
LAST-MODIFIED:20190503T150830Z
UID:4115-1559232000-1559239200@www.djpj.nl
SUMMARY:Golden Ten Loop Afterparty
DESCRIPTION:Na afloop van de Golden Ten Loop nog even een drankje en een dansje doen met DJPJ!!!
URL:https://www.djpj.nl/event/goldentenloopafterparty/
LOCATION:Beestenmarkt\, Beestenmarkt\, Delft\, 2611GA\, Netherlands
CATEGORIES:Party
ATTACH;FMTTYPE=image/jpeg:https://www.djpj.nl/wp-content/uploads/2019/05/DJPJ_GoldenTenLoop_2019.jpg
END:VEVENT
END:VCALENDAR