BEGIN:VCALENDAR
VERSION:2.0
PRODID:-//DJPJ - ECPv5.3.2.1//NONSGML v1.0//EN
CALSCALE:GREGORIAN
METHOD:PUBLISH
X-WR-CALNAME:DJPJ
X-ORIGINAL-URL:https://www.djpj.nl
X-WR-CALDESC:Events for DJPJ
BEGIN:VTIMEZONE
TZID:UTC
BEGIN:STANDARD
TZOFFSETFROM:+0000
TZOFFSETTO:+0000
TZNAME:UTC
DTSTART:20190101T000000
END:STANDARD
END:VTIMEZONE
BEGIN:VEVENT
DTSTART;TZID=UTC:20190321T210000
DTEND;TZID=UTC:20190322T040000
DTSTAMP:20260421T034750
CREATED:20190228T171935Z
LAST-MODIFIED:20190228T173515Z
UID:3957-1553202000-1553227200@www.djpj.nl
SUMMARY:Groenfeest 2019
DESCRIPTION:Vanavond is het dan eindelijk zover. Het groenfeest! Met dit jaar als thema: ”Groen zoekt vrouw”. Welk groens oogst jij dit seizoen? \nEn vanavond met DJPJ!!! \nAlleen toegankelijk met collegekaart.
URL:https://www.djpj.nl/event/groenfeest/
LOCATION:DSB\, Oude Delft 123\, Delft\, 2611BE\, Netherlands
CATEGORIES:Student Party
ATTACH;FMTTYPE=image/jpeg:https://www.djpj.nl/wp-content/uploads/2019/02/DJPJ_Groenfeest_2019.jpg
END:VEVENT
END:VCALENDAR