BEGIN:VCALENDAR
VERSION:2.0
PRODID:-//DJPJ - ECPv5.3.2.1//NONSGML v1.0//EN
CALSCALE:GREGORIAN
METHOD:PUBLISH
X-WR-CALNAME:DJPJ
X-ORIGINAL-URL:https://www.djpj.nl
X-WR-CALDESC:Events for DJPJ
BEGIN:VTIMEZONE
TZID:UTC
BEGIN:STANDARD
TZOFFSETFROM:+0000
TZOFFSETTO:+0000
TZNAME:UTC
DTSTART:20220101T000000
END:STANDARD
END:VTIMEZONE
BEGIN:VEVENT
DTSTART;VALUE=DATE:20220602
DTEND;VALUE=DATE:20220604
DTSTAMP:20260420T223937
CREATED:20220601T091043Z
LAST-MODIFIED:20220601T091846Z
UID:5407-1654149600-1654235999@www.djpj.nl
SUMMARY:HalfLustrum Gala PS
DESCRIPTION:Het HalfLustrum van het Gezelschap “Practische Studie” moet natuurlijk in stijl gevierd worden! \nEn DJPJ is er ook bij!! \nAlleen toegankelijk voor leden van PS en genodigden.
URL:https://www.djpj.nl/event/halflustrum-gala-ps/
LOCATION:De Schaapskooi\, Korftlaan 3\, Delft\, 2616LJ\, Netherlands
CATEGORIES:Student Party
ATTACH;FMTTYPE=image/jpeg:https://www.djpj.nl/wp-content/uploads/2022/06/DJPJ_HalfLustrumGalaPS_2022.jpg
END:VEVENT
END:VCALENDAR