BEGIN:VCALENDAR
VERSION:2.0
PRODID:-//DJPJ - ECPv5.3.2.1//NONSGML v1.0//EN
CALSCALE:GREGORIAN
METHOD:PUBLISH
X-WR-CALNAME:DJPJ
X-ORIGINAL-URL:https://www.djpj.nl
X-WR-CALDESC:Events for DJPJ
BEGIN:VTIMEZONE
TZID:UTC
BEGIN:STANDARD
TZOFFSETFROM:+0000
TZOFFSETTO:+0000
TZNAME:UTC
DTSTART:20230101T000000
END:STANDARD
END:VTIMEZONE
BEGIN:VEVENT
DTSTART;TZID=UTC:20231028T230000
DTEND;TZID=UTC:20231029T040000
DTSTAMP:20260420T230650
CREATED:20231003T075102Z
LAST-MODIFIED:20231003T075102Z
UID:6497-1698534000-1698552000@www.djpj.nl
SUMMARY:Halloween 2023
DESCRIPTION:Wees welkom op Alice’s ‘teaparty’ in de Nobel. Zoals jullie gewend zijn van ons\, toveren we de zalen om met vette deco en kun je de lekkerste hits in ons ‘konijnenhol’ verwachten. \n\n\n\n\n\n\nZoals elke Halloween pakken we dit jaar weer uit met een groots themafeest. Dit jaar duiken we met Alice down the rabbit hole. Stap in het bizarre en magische wonderland van Alice op ons meest betoverende Halloweenfeest ooit! Met muziek van de legendarische DJPJ. \nKom verkleed als je favoriete Wonderland-personage en maak je klaar voor een avond vol mysteries en wonderen. Het wordt een Halloweenfeest dat je nooit zult vergeten.
URL:https://www.djpj.nl/event/halloween-2023/
LOCATION:De Nobel\, Marktsteeg 8\, Leiden\, 2312CS\, Netherlands
CATEGORIES:Party
ATTACH;FMTTYPE=image/jpeg:https://www.djpj.nl/wp-content/uploads/2023/10/DJPJ_Halloween_2023.jpg
END:VEVENT
END:VCALENDAR