BEGIN:VCALENDAR
VERSION:2.0
PRODID:-//DJPJ - ECPv5.3.2.1//NONSGML v1.0//EN
CALSCALE:GREGORIAN
METHOD:PUBLISH
X-WR-CALNAME:DJPJ
X-ORIGINAL-URL:https://www.djpj.nl
X-WR-CALDESC:Events for DJPJ
BEGIN:VTIMEZONE
TZID:UTC
BEGIN:STANDARD
TZOFFSETFROM:+0000
TZOFFSETTO:+0000
TZNAME:UTC
DTSTART:20220101T000000
END:STANDARD
END:VTIMEZONE
BEGIN:VEVENT
DTSTART;TZID=UTC:20220421T220100
DTEND;TZID=UTC:20220422T040000
DTSTAMP:20260421T004924
CREATED:20220407T162235Z
LAST-MODIFIED:20220407T162833Z
UID:5273-1650578460-1650600000@www.djpj.nl
SUMMARY:HeartBeat 2022
DESCRIPTION:Het is weer tijd voor Heartbeat! \nOnder andere met DJPJ!!! \nAlleen toegankelijk met collegekaart.
URL:https://www.djpj.nl/event/heartbeat-2022/
LOCATION:Now&Wow\, Maashaven Zuidzijde 1\, Rotterdam\, 3081AE
CATEGORIES:Student Party
ATTACH;FMTTYPE=image/jpeg:https://www.djpj.nl/wp-content/uploads/2022/04/DJPJ_HeartBeat_2022.jpg
END:VEVENT
END:VCALENDAR