BEGIN:VCALENDAR
VERSION:2.0
PRODID:-//DJPJ - ECPv5.3.2.1//NONSGML v1.0//EN
CALSCALE:GREGORIAN
METHOD:PUBLISH
X-WR-CALNAME:DJPJ
X-ORIGINAL-URL:https://www.djpj.nl
X-WR-CALDESC:Events for DJPJ
BEGIN:VTIMEZONE
TZID:UTC
BEGIN:STANDARD
TZOFFSETFROM:+0000
TZOFFSETTO:+0000
TZNAME:UTC
DTSTART:20220101T000000
END:STANDARD
END:VTIMEZONE
BEGIN:VEVENT
DTSTART;VALUE=DATE:20220605
DTEND;VALUE=DATE:20220607
DTSTAMP:20260420T205810
CREATED:20220601T095040Z
LAST-MODIFIED:20220601T095040Z
UID:5431-1654408800-1654495199@www.djpj.nl
SUMMARY:HHH-Days 2022
DESCRIPTION:A weekend filled with hockey\, partying\, entertainment and beer! \nDuring Pentecoast weekend the HHH-days are held at DHC Hudito\, a four day long international hockey tournament. \nDuring the HHH-days there is a great friendly vibe\, you will make a lot of new friends\, and you will be entertained all weekend\, in short: it’s awesome! You will have 4 days filled with fun\, instead of the usual three. And last but not least… You’ll end the tournament on sunday with a never ending party! The party usually lasts till 9 o’clock in the morning. If you really want to earn your stripes at the HHH-days\, you will land yourself on the 6\, 7\, 8 and 9 o’clock picture! \nAnd DJPJ is there!! \nAlleen toegankelijk voor deelnemers aan de HHH-days en genodigden.
URL:https://www.djpj.nl/event/hhh-days-2022/
LOCATION:Hudito\, Rotterdamseweg 183a\, Delft\, 2629HD\, Netherlands
CATEGORIES:Party
ATTACH;FMTTYPE=image/jpeg:https://www.djpj.nl/wp-content/uploads/2022/06/DJPJ_HHHdays_2022.jpg
END:VEVENT
END:VCALENDAR