BEGIN:VCALENDAR
VERSION:2.0
PRODID:-//DJPJ - ECPv5.3.2.1//NONSGML v1.0//EN
CALSCALE:GREGORIAN
METHOD:PUBLISH
X-WR-CALNAME:DJPJ
X-ORIGINAL-URL:https://www.djpj.nl
X-WR-CALDESC:Events for DJPJ
BEGIN:VTIMEZONE
TZID:UTC
BEGIN:STANDARD
TZOFFSETFROM:+0000
TZOFFSETTO:+0000
TZNAME:UTC
DTSTART:20180101T000000
END:STANDARD
END:VTIMEZONE
BEGIN:VEVENT
DTSTART;TZID=UTC:20181017T220000
DTEND;TZID=UTC:20181018T040000
DTSTAMP:20260421T001712
CREATED:20181005T115546Z
LAST-MODIFIED:20181005T121335Z
UID:3607-1539813600-1539835200@www.djpj.nl
SUMMARY:IFF 2018
DESCRIPTION:On the 17th of October\, the Inter Facultary Party organised by the study associations S.G. ‘William Froude’\, Delft Mining Association\, W.I.S.V. ‘Christiaan Huygens’\, Electrotechnische vereeniging and S.V. LIFE will take place! \nVanavond met DJPJ!!! \nAlleen toegankelijk met Studentenkaart.
URL:https://www.djpj.nl/event/iff2018/
LOCATION:Lorre\, Phoenixstraat 30\, Delft\, 2611AL\, Netherlands
CATEGORIES:Student Party
ATTACH;FMTTYPE=image/jpeg:https://www.djpj.nl/wp-content/uploads/2018/10/DJPJ_IFF_2018.jpg
END:VEVENT
END:VCALENDAR