BEGIN:VCALENDAR
VERSION:2.0
PRODID:-//DJPJ - ECPv5.3.2.1//NONSGML v1.0//EN
CALSCALE:GREGORIAN
METHOD:PUBLISH
X-WR-CALNAME:DJPJ
X-ORIGINAL-URL:https://www.djpj.nl
X-WR-CALDESC:Events for DJPJ
BEGIN:VTIMEZONE
TZID:UTC
BEGIN:STANDARD
TZOFFSETFROM:+0000
TZOFFSETTO:+0000
TZNAME:UTC
DTSTART:20190101T000000
END:STANDARD
END:VTIMEZONE
BEGIN:VEVENT
DTSTART;TZID=UTC:20191231T235700
DTEND;TZID=UTC:20200101T050000
DTSTAMP:20260421T045945
CREATED:20191203T183534Z
LAST-MODIFIED:20191203T183929Z
UID:4665-1577836620-1577854800@www.djpj.nl
SUMMARY:Jansbrug: Oud&Nieuw
DESCRIPTION:Het nieuwe Decennium moet gevierd worden!!!! \nEn vanavond met DJPJ!!!! \nAlleen toegankelijk met Studentenkaart en een ID.
URL:https://www.djpj.nl/event/jansbrug_oudnieuw/
LOCATION:Jansbrug\, Oude Delft 50-52\, Delft\, 2611CD\, Netherlands
CATEGORIES:Student Party
ATTACH;FMTTYPE=image/jpeg:https://www.djpj.nl/wp-content/uploads/2019/12/DJPJ_Jansbrug_2019.jpg
END:VEVENT
END:VCALENDAR