BEGIN:VCALENDAR
VERSION:2.0
PRODID:-//DJPJ - ECPv5.3.2.1//NONSGML v1.0//EN
CALSCALE:GREGORIAN
METHOD:PUBLISH
X-WR-CALNAME:DJPJ
X-ORIGINAL-URL:https://www.djpj.nl
X-WR-CALDESC:Events for DJPJ
BEGIN:VTIMEZONE
TZID:UTC
BEGIN:STANDARD
TZOFFSETFROM:+0000
TZOFFSETTO:+0000
TZNAME:UTC
DTSTART:20230101T000000
END:STANDARD
END:VTIMEZONE
BEGIN:VEVENT
DTSTART;VALUE=DATE:20230427
DTEND;VALUE=DATE:20230429
DTSTAMP:20260421T124450
CREATED:20230424T172129Z
LAST-MODIFIED:20230424T172129Z
UID:6221-1682575200-1682661599@www.djpj.nl
SUMMARY:Koningsdag Leiden 2023
DESCRIPTION:Het gezelligste feestje op Koningsdag vindt dit jaar plaats op de Lammermarkt in Leiden!  \n​Het belooft 1 groot feest te worden met live bands\, feestacts\, culthelden\, DJ’s\, foodtrucks en een uitgebreid kidsprogramma! Zet dit feestje alvast met oranje omcirkeld in je agenda. En om het nog mooier te maken: de entree is gratis! \nEn DJPJ is erbij!!!
URL:https://www.djpj.nl/event/koningsdag-leiden-2023/
LOCATION:Lammermarkt Leiden\, Lammermarkt 20P\, Leiden
CATEGORIES:Party
ATTACH;FMTTYPE=image/jpeg:https://www.djpj.nl/wp-content/uploads/2023/04/DJPJ_Koningsdag_Leiden_2023.jpg
END:VEVENT
END:VCALENDAR