BEGIN:VCALENDAR
VERSION:2.0
PRODID:-//DJPJ - ECPv5.3.2.1//NONSGML v1.0//EN
CALSCALE:GREGORIAN
METHOD:PUBLISH
X-WR-CALNAME:DJPJ
X-ORIGINAL-URL:https://www.djpj.nl
X-WR-CALDESC:Events for DJPJ
BEGIN:VTIMEZONE
TZID:UTC
BEGIN:STANDARD
TZOFFSETFROM:+0000
TZOFFSETTO:+0000
TZNAME:UTC
DTSTART:20220101T000000
END:STANDARD
END:VTIMEZONE
BEGIN:VEVENT
DTSTART;TZID=UTC:20220426T220000
DTEND;TZID=UTC:20220427T040000
DTSTAMP:20260421T005222
CREATED:20220407T161125Z
LAST-MODIFIED:20220407T161125Z
UID:5267-1651010400-1651032000@www.djpj.nl
SUMMARY:Koningsnacht in De Kurk 2022
DESCRIPTION:Willy is morgen jarig\, dus tijd voor een feestje!! \nEn vanavond met DJPJ!!!
URL:https://www.djpj.nl/event/koningsnacht2022/
LOCATION:De Kurk\, Kromstraat 20\, Delft\, 2611ER\, Netherlands
CATEGORIES:Party
ATTACH;FMTTYPE=image/jpeg:https://www.djpj.nl/wp-content/uploads/2022/04/DJPJ_Koningsnacht_2022.jpg
END:VEVENT
END:VCALENDAR