BEGIN:VCALENDAR
VERSION:2.0
PRODID:-//DJPJ - ECPv5.3.2.1//NONSGML v1.0//EN
CALSCALE:GREGORIAN
METHOD:PUBLISH
X-WR-CALNAME:DJPJ
X-ORIGINAL-URL:https://www.djpj.nl
X-WR-CALDESC:Events for DJPJ
BEGIN:VTIMEZONE
TZID:UTC
BEGIN:STANDARD
TZOFFSETFROM:+0000
TZOFFSETTO:+0000
TZNAME:UTC
DTSTART:20200101T000000
END:STANDARD
END:VTIMEZONE
BEGIN:VEVENT
DTSTART;VALUE=DATE:20200318
DTEND;VALUE=DATE:20200320
DTSTAMP:20260421T020727
CREATED:20200301T151245Z
LAST-MODIFIED:20200301T151245Z
UID:4827-1584511200-1584597599@www.djpj.nl
SUMMARY:Kriminele 2020
DESCRIPTION:Kriminele\, het feest waar menig student in de wijde omtrek en ver daarbuiten op af komt. \nEn vanavond met DJPJ!!! \nAlleen toegankelijk voor leden van het DSC en genodigden.
URL:https://www.djpj.nl/event/kriminele-2020/
LOCATION:DSC\, Phoenixstraat 30\, Delft\, 2611AL\, Netherlands
CATEGORIES:Student Party
ATTACH;FMTTYPE=image/jpeg:https://www.djpj.nl/wp-content/uploads/2020/03/DJPJ_Kriminele_2020.jpg
END:VEVENT
END:VCALENDAR