BEGIN:VCALENDAR
VERSION:2.0
PRODID:-//DJPJ - ECPv5.3.2.1//NONSGML v1.0//EN
CALSCALE:GREGORIAN
METHOD:PUBLISH
X-WR-CALNAME:DJPJ
X-ORIGINAL-URL:https://www.djpj.nl
X-WR-CALDESC:Events for DJPJ
BEGIN:VTIMEZONE
TZID:UTC
BEGIN:STANDARD
TZOFFSETFROM:+0000
TZOFFSETTO:+0000
TZNAME:UTC
DTSTART:20210101T000000
END:STANDARD
END:VTIMEZONE
BEGIN:VEVENT
DTSTART;VALUE=DATE:20210713
DTEND;VALUE=DATE:20210715
DTSTAMP:20260421T042835
CREATED:20210626T153502Z
LAST-MODIFIED:20210626T153502Z
UID:4967-1626156000-1626242399@www.djpj.nl
SUMMARY:Laga Lustrum: Escalatie Dag #1
DESCRIPTION:Voor iedereen die al anderhalf jaar wacht op een goed feest ter compensatie van alle feesten die je hebt gemist\, is er de Escalatiedag! Naast een Cantus\, komen er ook verschillende artiesten en staat de dag volledig in het teken van escaleren!! \nOnder andere met DJPJ!!! \nAlleen toegankelijk voor leden van Laga en genodigden.
URL:https://www.djpj.nl/event/laga_lustrum_escalatiedag1/
LOCATION:Fortuna Delft\, Schoemakerstraat 340\, Delft\, 2629HP
CATEGORIES:Student Party
ATTACH;FMTTYPE=image/jpeg:https://www.djpj.nl/wp-content/uploads/2021/06/DJPJ_Laga_Lustrum_2021.jpg
END:VEVENT
END:VCALENDAR