BEGIN:VCALENDAR
VERSION:2.0
PRODID:-//DJPJ - ECPv5.3.2.1//NONSGML v1.0//EN
CALSCALE:GREGORIAN
METHOD:PUBLISH
X-WR-CALNAME:DJPJ
X-ORIGINAL-URL:https://www.djpj.nl
X-WR-CALDESC:Events for DJPJ
BEGIN:VTIMEZONE
TZID:UTC
BEGIN:STANDARD
TZOFFSETFROM:+0000
TZOFFSETTO:+0000
TZNAME:UTC
DTSTART:20250101T000000
END:STANDARD
END:VTIMEZONE
BEGIN:VEVENT
DTSTART;VALUE=DATE:20250619
DTEND;VALUE=DATE:20250621
DTSTAMP:20260420T193626
CREATED:20250603T190521Z
LAST-MODIFIED:20250603T190521Z
UID:7547-1750312800-1750399199@www.djpj.nl
SUMMARY:LawLands 2025
DESCRIPTION:Op 19 juni a.s. verandert het buitenterrein van het KOG in het bruisende LAWLANDS. Hier wordt nog lang over nagepraat\, want dit wordt een onvergetelijke 450-viering voor zowel studenten als medewerkers van de Faculteit der Rechtsgeleerdheid. \nLAWLANDS is meer dan een feest – het is een viering waarin we entertainment verbinden aan wetenschap\, muzikaal talent uit eigen gelederen combineren met een spetterende line-up\, lekker eten en drinken en vooral: veel lol met elkaar hebben. \nMet onder andere DJPJ!! \nAlleen toegankelijk voor studenten en medewerkers van de Faculteit Rechtsgeleerdheid en genodigden.
URL:https://www.djpj.nl/event/lawlands-2025/
LOCATION:Faculteit Rechtsgeleerdheid\, Steenschuur 25\, Leiden\, Netherlands
CATEGORIES:Student Party
ATTACH;FMTTYPE=image/jpeg:https://www.djpj.nl/wp-content/uploads/2025/06/DJPJ_LawLands_2025.jpg
END:VEVENT
END:VCALENDAR