BEGIN:VCALENDAR
VERSION:2.0
PRODID:-//DJPJ - ECPv5.3.2.1//NONSGML v1.0//EN
CALSCALE:GREGORIAN
METHOD:PUBLISH
X-WR-CALNAME:DJPJ
X-ORIGINAL-URL:https://www.djpj.nl
X-WR-CALDESC:Events for DJPJ
BEGIN:VTIMEZONE
TZID:UTC
BEGIN:STANDARD
TZOFFSETFROM:+0000
TZOFFSETTO:+0000
TZNAME:UTC
DTSTART:20180101T000000
END:STANDARD
END:VTIMEZONE
BEGIN:VEVENT
DTSTART;TZID=UTC:20181211T163000
DTEND;TZID=UTC:20181211T233000
DTSTAMP:20260420T221933
CREATED:20181202T140911Z
LAST-MODIFIED:20181202T141153Z
UID:3743-1544545800-1544571000@www.djpj.nl
SUMMARY:Lichtjesavond 2018
DESCRIPTION:Lichtjesavond 2018 vier je weer op de Beestenmarkt in Delft! Met knutselen voor de kids met Studio Springboon\, de muzikale omlijsting wordt verzorgt door de Q Big Band en natuurlijk mag DJPJ niet ontbreken! De buitenbarren kunt u dit jaar vinden bij Moeke Delft\, Belgisch Bier Café Belvédère en Kobus Kuch!
URL:https://www.djpj.nl/event/lichtjesavond/
LOCATION:Beestenmarkt\, Beestenmarkt\, Delft\, 2611GA\, Netherlands
CATEGORIES:Party
ATTACH;FMTTYPE=image/jpeg:https://www.djpj.nl/wp-content/uploads/2018/12/DJPJ_Lichtjesavond_2018.jpg
END:VEVENT
END:VCALENDAR