BEGIN:VCALENDAR
VERSION:2.0
PRODID:-//DJPJ - ECPv5.3.2.1//NONSGML v1.0//EN
CALSCALE:GREGORIAN
METHOD:PUBLISH
X-WR-CALNAME:DJPJ
X-ORIGINAL-URL:https://www.djpj.nl
X-WR-CALDESC:Events for DJPJ
BEGIN:VTIMEZONE
TZID:UTC
BEGIN:STANDARD
TZOFFSETFROM:+0000
TZOFFSETTO:+0000
TZNAME:UTC
DTSTART:20230101T000000
END:STANDARD
END:VTIMEZONE
BEGIN:VEVENT
DTSTART;VALUE=DATE:20230512
DTEND;VALUE=DATE:20230514
DTSTAMP:20260420T192154
CREATED:20230511T153747Z
LAST-MODIFIED:20230511T153747Z
UID:6253-1683871200-1683957599@www.djpj.nl
SUMMARY:Limitless 2023
DESCRIPTION:After 4 years of waiting\, Limitless is finally back!!!💜 \nEn DJPJ is er ook bij!! \nAlleen toegankelijk voor leden van V.S.V. “Leonardo da Vinci” en genodigden.
URL:https://www.djpj.nl/event/limitless-2023/
LOCATION:Faculteit L&R\, Kluyverweg 1\, Delft\, 2629HS\, Netherlands
CATEGORIES:Student Party
ATTACH;FMTTYPE=image/jpeg:https://www.djpj.nl/wp-content/uploads/2023/05/DJPJ_Limitless_2023.jpg
END:VEVENT
END:VCALENDAR