BEGIN:VCALENDAR
VERSION:2.0
PRODID:-//DJPJ - ECPv5.3.2.1//NONSGML v1.0//EN
CALSCALE:GREGORIAN
METHOD:PUBLISH
X-WR-CALNAME:DJPJ
X-ORIGINAL-URL:https://www.djpj.nl
X-WR-CALDESC:Events for DJPJ
BEGIN:VTIMEZONE
TZID:UTC
BEGIN:STANDARD
TZOFFSETFROM:+0000
TZOFFSETTO:+0000
TZNAME:UTC
DTSTART:20200101T000000
END:STANDARD
END:VTIMEZONE
BEGIN:VEVENT
DTSTART;TZID=UTC:20200107T230000
DTEND;TZID=UTC:20200108T040000
DTSTAMP:20260421T093533
CREATED:20191230T174718Z
LAST-MODIFIED:20191230T174745Z
UID:4685-1578438000-1578456000@www.djpj.nl
SUMMARY:Lorre
DESCRIPTION:Dé studentendiscotheek van Delft\, waar je vanavond lekker kan dansen en sjansen op de hitjes van DJPJ!!! \nAlleen toegankelijk met Lorre-pas/Studentenkaart en een ID.
URL:https://www.djpj.nl/event/lorre-3/
LOCATION:Lorre\, Phoenixstraat 30\, Delft\, 2611AL\, Netherlands
CATEGORIES:Student Party
ATTACH;FMTTYPE=image/jpeg:https://www.djpj.nl/wp-content/uploads/2018/09/DJPJ_Lorre.jpg
END:VEVENT
END:VCALENDAR