BEGIN:VCALENDAR
VERSION:2.0
PRODID:-//DJPJ - ECPv5.3.2.1//NONSGML v1.0//EN
CALSCALE:GREGORIAN
METHOD:PUBLISH
X-WR-CALNAME:DJPJ
X-ORIGINAL-URL:https://www.djpj.nl
X-WR-CALDESC:Events for DJPJ
BEGIN:VTIMEZONE
TZID:UTC
BEGIN:STANDARD
TZOFFSETFROM:+0000
TZOFFSETTO:+0000
TZNAME:UTC
DTSTART:20210101T000000
END:STANDARD
END:VTIMEZONE
BEGIN:VEVENT
DTSTART;TZID=UTC:20210629T230000
DTEND;TZID=UTC:20210630T040000
DTSTAMP:20260422T021328
CREATED:20210626T150453Z
LAST-MODIFIED:20210626T150453Z
UID:4957-1625007600-1625025600@www.djpj.nl
SUMMARY:Lorre
DESCRIPTION:Dé studentendiscotheek van Delft\, waar je vanavond lekker kan dansen en sjansen op de hitjes van DJPJ!!! \nAlleen toegankelijk met Lorre-pas/Studentenkaart en een ID.
URL:https://www.djpj.nl/event/lorre-4/
LOCATION:Lorre\, Phoenixstraat 30\, Delft\, 2611AL\, Netherlands
CATEGORIES:Student Party
ATTACH;FMTTYPE=image/jpeg:https://www.djpj.nl/wp-content/uploads/2018/09/DJPJ_Lorre.jpg
END:VEVENT
END:VCALENDAR