BEGIN:VCALENDAR
VERSION:2.0
PRODID:-//DJPJ - ECPv5.3.2.1//NONSGML v1.0//EN
CALSCALE:GREGORIAN
METHOD:PUBLISH
X-WR-CALNAME:DJPJ
X-ORIGINAL-URL:https://www.djpj.nl
X-WR-CALDESC:Events for DJPJ
BEGIN:VTIMEZONE
TZID:UTC
BEGIN:STANDARD
TZOFFSETFROM:+0000
TZOFFSETTO:+0000
TZNAME:UTC
DTSTART:20180101T000000
END:STANDARD
END:VTIMEZONE
BEGIN:VEVENT
DTSTART;TZID=UTC:20181013T220000
DTEND;TZID=UTC:20181014T040000
DTSTAMP:20260420T210709
CREATED:20181005T113632Z
LAST-MODIFIED:20181005T113733Z
UID:3599-1539468000-1539489600@www.djpj.nl
SUMMARY:Lustrum D.S.T. Pegasus
DESCRIPTION:In elke Delftenaar schuilt een verlangen\, een passie\, een onbedwingbare lust… Het wordt hoog tijd om die lust voor eens en altijd naar buiten te brengen. \nOp zaterdag 13 oktober viert Delftse Studenten Turnvereniging Pegasus alweer haar 10e verjaardag!! Om dit te vieren hebben we een week vol fantastische activiteiten gepland in het thema van Het Epik 7 Zondenland! \nOm dit mooie moment te vieren sluiten we de lustrumweek af met een schittermagisch feest in de Lorre; Het LUSTrum eindfeest! Trek je meest sexy outfit aan want it’s about to get hot! Met veel gestamp en geregel zullen we de Lorre helemaal met de grond gelijk maken op deze woestaantrekkelijke avond. \nVanavond met DJPJ!!! \nAlleen toegankelijk met Studentenkaart.
URL:https://www.djpj.nl/event/lustrum-pegasus/
LOCATION:Lorre\, Phoenixstraat 30\, Delft\, 2611AL\, Netherlands
CATEGORIES:Student Party
ATTACH;FMTTYPE=image/jpeg:https://www.djpj.nl/wp-content/uploads/2018/10/DJPJ_LustrumPegasus_2018.jpg
END:VEVENT
END:VCALENDAR