BEGIN:VCALENDAR
VERSION:2.0
PRODID:-//DJPJ - ECPv5.3.2.1//NONSGML v1.0//EN
CALSCALE:GREGORIAN
METHOD:PUBLISH
X-WR-CALNAME:DJPJ
X-ORIGINAL-URL:https://www.djpj.nl
X-WR-CALDESC:Events for DJPJ
BEGIN:VTIMEZONE
TZID:UTC
BEGIN:STANDARD
TZOFFSETFROM:+0000
TZOFFSETTO:+0000
TZNAME:UTC
DTSTART:20190101T000000
END:STANDARD
END:VTIMEZONE
BEGIN:VEVENT
DTSTART;TZID=UTC:20191126T220000
DTEND;TZID=UTC:20191127T030000
DTSTAMP:20260421T052550
CREATED:20191030T161356Z
LAST-MODIFIED:20191102T121839Z
UID:4545-1574805600-1574823600@www.djpj.nl
SUMMARY:Lustrumfeest Gilde Plunk
DESCRIPTION:Het Gilde Plunk is 25 en dat moet gevierd worden!!!! \nEn vanavond met DJPJ!!!! \nAlleen toegankelijk met Studentenkaart en een ID.
URL:https://www.djpj.nl/event/lustrumfeest-gilde_plunk/
LOCATION:Jansbrug\, Oude Delft 50-52\, Delft\, 2611CD\, Netherlands
CATEGORIES:Student Party
ATTACH;FMTTYPE=image/jpeg:https://www.djpj.nl/wp-content/uploads/2019/10/DJPJ_LustrumPlunk_2019.jpg
END:VEVENT
END:VCALENDAR